BEGIN:VCALENDAR
VERSION:2.0
PRODID:-//pretix//VR_Ticket//
BEGIN:VTIMEZONE
TZID:Europe/Berlin
BEGIN:STANDARD
DTSTART:20001029T040000
RRULE:FREQ=YEARLY;BYDAY=-1SU;BYMONTH=10
TZNAME:CET
TZOFFSETFROM:+0200
TZOFFSETTO:+0100
END:STANDARD
BEGIN:DAYLIGHT
DTSTART:20000326T030000
RRULE:FREQ=YEARLY;BYDAY=-1SU;BYMONTH=3
TZNAME:CEST
TZOFFSETFROM:+0100
TZOFFSETTO:+0200
END:DAYLIGHT
END:VTIMEZONE
BEGIN:VEVENT
UID:pretix-colombinacolonia-RK-0@login.vr-ticket.de
DTSTART;TZID=Europe/Berlin:20240321T190000
DTEND;TZID=Europe/Berlin:20240321T200000
DESCRIPTION:Tickets: https://login.vr-ticket.de/colombinacolonia/RK/\nEinla
 ss: 21.03.2024 18:30\nVeranstalter: Colombina Colonia e.V.
DTSTAMP:20260419T180908Z
LOCATION:Gilden im Zims "Heimat kölscher Helden"\, Heumarkt 77\, 50667 Kö
 ln\, im Historischen Keller
SUMMARY:Rievkooche Party
END:VEVENT
END:VCALENDAR
