BEGIN:VCALENDAR
VERSION:2.0
PRODID:-//pretix//VR_Ticket//
BEGIN:VTIMEZONE
TZID:Europe/Berlin
BEGIN:STANDARD
DTSTART:20001029T040000
RRULE:FREQ=YEARLY;BYDAY=-1SU;BYMONTH=10
TZNAME:CET
TZOFFSETFROM:+0200
TZOFFSETTO:+0100
END:STANDARD
BEGIN:DAYLIGHT
DTSTART:20000326T030000
RRULE:FREQ=YEARLY;BYDAY=-1SU;BYMONTH=3
TZNAME:CEST
TZOFFSETFROM:+0100
TZOFFSETTO:+0200
END:DAYLIGHT
END:VTIMEZONE
BEGIN:VEVENT
UID:pretix-colombinacolonia-Jubi-0@login.vr-ticket.de
DTSTART;TZID=Europe/Berlin:20240427T190000
DTEND;TZID=Europe/Berlin:20240427T200000
DESCRIPTION:Tickets: https://login.vr-ticket.de/colombinacolonia/Jubi/\nEin
 lass: 27.04.2024 18:00\nVeranstalter: Colombina Colonia e.V.
DTSTAMP:20260419T180908Z
LOCATION:KWB im Stadtpalais\, Hotel Stadtpalais\, Deutz-Kalker-Str. 52\, 50
 679 Köln
SUMMARY:Jubiläumsfeier - 25 Jahre Colombina Colonia e.V.
END:VEVENT
END:VCALENDAR
