BEGIN:VCALENDAR
VERSION:2.0
PRODID:-//pretix//VR_Ticket//
BEGIN:VTIMEZONE
TZID:Europe/Berlin
BEGIN:STANDARD
DTSTART:20001029T040000
RRULE:FREQ=YEARLY;BYDAY=-1SU;BYMONTH=10
TZNAME:CET
TZOFFSETFROM:+0200
TZOFFSETTO:+0100
END:STANDARD
BEGIN:DAYLIGHT
DTSTART:20000326T030000
RRULE:FREQ=YEARLY;BYDAY=-1SU;BYMONTH=3
TZNAME:CEST
TZOFFSETFROM:+0100
TZOFFSETTO:+0200
END:DAYLIGHT
END:VTIMEZONE
BEGIN:VEVENT
UID:pretix-billerbeck-verleih-31950@login.vr-ticket.de
DTSTART;TZID=Europe/Berlin:20260508T060000
DTEND;TZID=Europe/Berlin:20260508T070000
DESCRIPTION:Tickets: https://login.vr-ticket.de/billerbeck/verleih/31950/\n
 Veranstalter: Ticketshop der Stadt Billerbeck
DTSTAMP:20260424T021946Z
LOCATION:Mietstation\, Billerbeck's Bahnhof\, Am Bahnhof 1\, 48727 Billerbe
 ck
SUMMARY:E-Lastenrad-Kindertransport
END:VEVENT
END:VCALENDAR
