BEGIN:VCALENDAR
VERSION:2.0
PRODID:-//pretix//VR_Ticket//
BEGIN:VTIMEZONE
TZID:Europe/Berlin
BEGIN:STANDARD
DTSTART:20001029T040000
RRULE:FREQ=YEARLY;BYDAY=-1SU;BYMONTH=10
TZNAME:CET
TZOFFSETFROM:+0200
TZOFFSETTO:+0100
END:STANDARD
BEGIN:DAYLIGHT
DTSTART:20000326T030000
RRULE:FREQ=YEARLY;BYDAY=-1SU;BYMONTH=3
TZNAME:CEST
TZOFFSETFROM:+0100
TZOFFSETTO:+0200
END:DAYLIGHT
END:VTIMEZONE
BEGIN:VEVENT
UID:pretix-billerbeck-stadtfuehrung-36214@login.vr-ticket.de
DTSTART;TZID=Europe/Berlin:20260920T143000
DTEND;TZID=Europe/Berlin:20260920T153000
DESCRIPTION:Tickets: https://login.vr-ticket.de/billerbeck/stadtfuehrung/36
 214/\nVeranstalter: Ticketshop der Stadt Billerbeck
DTSTAMP:20260421T215126Z
LOCATION:Rathaus Billerbeck\, Markt 1\, 48727 Billerbeck
SUMMARY:Hoch hinaus! - Rathausführung mit Blick vom Rathausturm
END:VEVENT
END:VCALENDAR
