BEGIN:VCALENDAR
VERSION:2.0
PRODID:-//pretix//VR_Ticket//
BEGIN:VTIMEZONE
TZID:Europe/Berlin
BEGIN:STANDARD
DTSTART:20001029T040000
RRULE:FREQ=YEARLY;BYDAY=-1SU;BYMONTH=10
TZNAME:CET
TZOFFSETFROM:+0200
TZOFFSETTO:+0100
END:STANDARD
BEGIN:DAYLIGHT
DTSTART:20000326T030000
RRULE:FREQ=YEARLY;BYDAY=-1SU;BYMONTH=3
TZNAME:CEST
TZOFFSETFROM:+0100
TZOFFSETTO:+0200
END:DAYLIGHT
END:VTIMEZONE
BEGIN:VEVENT
UID:pretix-billerbeck-stadtfuehrung-34351@login.vr-ticket.de
DTSTART;TZID=Europe/Berlin:20260510T110000
DTEND;TZID=Europe/Berlin:20260510T130000
DESCRIPTION:Tickets: https://login.vr-ticket.de/billerbeck/stadtfuehrung/34
 351/\nVeranstalter: Ticketshop der Stadt Billerbeck
DTSTAMP:20260421T044940Z
LOCATION:Ludgerusbrunnen in Billerbeck
SUMMARY:Wenn der Frühling erwacht - Wanderung mit Picknick
END:VEVENT
END:VCALENDAR
