BEGIN:VCALENDAR
VERSION:2.0
PRODID:-//pretix//VR_Ticket//
BEGIN:VTIMEZONE
TZID:Europe/Berlin
BEGIN:STANDARD
DTSTART:20001029T040000
RRULE:FREQ=YEARLY;BYDAY=-1SU;BYMONTH=10
TZNAME:CET
TZOFFSETFROM:+0200
TZOFFSETTO:+0100
END:STANDARD
BEGIN:DAYLIGHT
DTSTART:20000326T030000
RRULE:FREQ=YEARLY;BYDAY=-1SU;BYMONTH=3
TZNAME:CEST
TZOFFSETFROM:+0100
TZOFFSETTO:+0200
END:DAYLIGHT
END:VTIMEZONE
BEGIN:VEVENT
UID:pretix-billerbeck-freizeit-25201@login.vr-ticket.de
DTSTART;TZID=Europe/Berlin:20250815T180000
DTEND;TZID=Europe/Berlin:20250815T220000
DESCRIPTION:Tickets: https://login.vr-ticket.de/billerbeck/freizeit/25201/\
 nVeranstalter: Ticketshop der Stadt Billerbeck
DTSTAMP:20260420T144125Z
LOCATION:Markt Billerbeck
SUMMARY:Tischreservierung Popup Biergarten Egerländer Blasmusik
END:VEVENT
END:VCALENDAR
