BEGIN:VCALENDAR
VERSION:2.0
PRODID:-//pretix//VR_Ticket//
BEGIN:VTIMEZONE
TZID:Europe/Berlin
BEGIN:STANDARD
DTSTART:20001029T040000
RRULE:FREQ=YEARLY;BYDAY=-1SU;BYMONTH=10
TZNAME:CET
TZOFFSETFROM:+0200
TZOFFSETTO:+0100
END:STANDARD
BEGIN:DAYLIGHT
DTSTART:20000326T030000
RRULE:FREQ=YEARLY;BYDAY=-1SU;BYMONTH=3
TZNAME:CEST
TZOFFSETFROM:+0100
TZOFFSETTO:+0200
END:DAYLIGHT
END:VTIMEZONE
BEGIN:VEVENT
UID:pretix-Volksbank-Erft-openair2026-0@login.vr-ticket.de
DTSTART;TZID=Europe/Berlin:20260918T190000
DTEND;TZID=Europe/Berlin:20260918T200000
DESCRIPTION:Tickets: https://login.vr-ticket.de/Volksbank-Erft/openair2026/
 \nEinlass: 18.09.2026 18:00\nVeranstalter: Volksbank Erft eG
DTSTAMP:20260419T131550Z
LOCATION:50126 Bergheim - Paffendorf\, Schloss Paffendorf
SUMMARY:Open Air Konzert 2026
END:VEVENT
END:VCALENDAR
